BEGIN:VCALENDAR
VERSION:2.0
PRODID:-//pretix//pretix.eu//
BEGIN:VEVENT
UID:pretix-takeovereurope-2024-0@tickets.teslatakeover.eu
DTSTART;VALUE=DATE:20240525
DTEND;VALUE=DATE:20240527
DESCRIPTION:Tickets: https://tickets.teslatakeover.eu/2024/\nOrganizer: Tes
 la Club Austria
DTSTAMP:20260425T142346Z
LOCATION:Unterberggasse 210\, 5542 Flachau
SUMMARY:Tesla Takeover Europe 2024
END:VEVENT
END:VCALENDAR
